BEGIN:VCALENDAR
VERSION:2.0
PRODID:-//BeyondBoys - ECPv5.9.1//NONSGML v1.0//EN
CALSCALE:GREGORIAN
METHOD:PUBLISH
X-WR-CALNAME:BeyondBoys
X-ORIGINAL-URL:https://beyondboys.com
X-WR-CALDESC:Veranstaltungen für BeyondBoys
BEGIN:VTIMEZONE
TZID:Europe/Berlin
BEGIN:DAYLIGHT
TZOFFSETFROM:+0100
TZOFFSETTO:+0200
TZNAME:CEST
DTSTART:20250330T010000
END:DAYLIGHT
BEGIN:STANDARD
TZOFFSETFROM:+0200
TZOFFSETTO:+0100
TZNAME:CET
DTSTART:20251026T010000
END:STANDARD
END:VTIMEZONE
BEGIN:VEVENT
DTSTART;TZID=Europe/Berlin:20251205T200000
DTEND;TZID=Europe/Berlin:20251205T233000
DTSTAMP:20260425T173337
CREATED:20251119T185919Z
LAST-MODIFIED:20251119T185919Z
UID:21484-1764964800-1764977400@beyondboys.com
SUMMARY:Fitness & Padel by padelbox
DESCRIPTION:Dear Tribe\,\n\nEs ist soweit das Erste Fitness & Padel Event ist im Anmasrch!\n\nAnfang Dezember kurz vor dem zweiten Advent connecten sich das Krafthaus in Köln und die Padelbox in Weiden\, und machen sportlich gemeinsame Sache.\nMit diesem KickOff-Event wollen wir eine neue Ära einläuten und alle Padelliebhaber noch fitter und leistungsstärker machen. Mit einer professionellen Einheit Sport\, dann ner Runde Padel und parallel\, sowie danach gibt es auch was für die trockenen Kehlchen und die Ohren.\n\nAlso los! Ran & einbuchen und LET´S GO! FITNESS\, PADEL & PARTY  \n\nBei Fragen sonst einfach auch bei unserem Member David Flacke melden 😉\n\nShort facts:\n\n– Fr. 05.12.25 um 20:00 Uhr\n– In der PadelBox in Weiden/ Kronstädter Str. 100\, 50858 Köln\n\nSpecial vor Ort:\n\nErst ne funktionelle Einheit Sport padelspezifisch mit bynd boy David!\n60 Min. Padel Play\nDanach open End party and drinks! (Mit DJ)\n50% Rabatt auf die Tickets 20\,- BYND Vorteil (regulär 40\,-€) -> Zahlung vor Ort oder nachher über PayPal\nExklusiver Slot\, bei 12 Teilnehmern nur für BYND\nDeadline Buchung bis zum Mo. 01.12.25
URL:https://beyondboys.com/event/fitness-padel-by-padelbox/
LOCATION:padelBOX\, ottostrasse 12\, Köln\, 50859
CATEGORIES:BeyondBoys ALL (GER),Category,Sports & Fun,Tribe
ATTACH;FMTTYPE=image/png:https://beyondboys.com/wp-content/uploads/2025/04/Bildschirmfoto-2025-04-07-um-09.46.21.png
END:VEVENT
BEGIN:VEVENT
DTSTART;TZID=Europe/Berlin:20251207T113000
DTEND;TZID=Europe/Berlin:20251207T170000
DTSTAMP:20260425T173337
CREATED:20251106T162238Z
LAST-MODIFIED:20251112T194906Z
UID:21242-1765107000-1765126800@beyondboys.com
SUMMARY:bynd–sc: Family Gathering Weihnachtsbaum fällen
DESCRIPTION:dear tribe\,\nveni\, vidi sägi – wir kommen\, wir trinken\, wir sägen! \n\nam zweiten advent treffen wir uns bei unserem member nico solazzo auf dem hof von „Salazzo & Wetzel GmbH“ in ratingen\, um gemeinsam unseren eigenen weihnachtsbaum zu fällen und das gepaart mit heißem glühwein oder kakao\, feuerschale und kleinen snacks.\n \nihr könnt euch vor ort schöne bäume aussuchen oder selbst fällen – ganz wie ihr wollt.\n \ndas hat doch maximales potential eine neue tradition zu werden – oder?! – ein tag für familie\, freunde und tribe-spirit im wald.\n\n\nshortfacts:\n07 dezember | 11:30 \nSalazzo & Wetzel GmbH | Flandersbach 55 | 42489 Wülfrath\n\nspecials vor ort:\n• erster glühwein geht auf Nico\n• 25 % rabatt auf bäume und lieferung\n• stockbrot für die kids – for free
URL:https://beyondboys.com/event/bynd-sc-family-gathering-weihnachtsbaum-faellen/
LOCATION:Salazzo & Wetzel GmbH\, Flandersbach 55\, Wülfrath\, 42489
CATEGORIES:BeyondBoys ALL (GER),Category,Drink & Dine,Tribe
ATTACH;FMTTYPE=image/jpeg:https://beyondboys.com/wp-content/uploads/2025/11/24293444577_49bc1f8a3a_o.jpg
END:VEVENT
BEGIN:VEVENT
DTSTART;TZID=Europe/Berlin:20251209T190000
DTEND;TZID=Europe/Berlin:20251209T233000
DTSTAMP:20260425T173337
CREATED:20251124T213913Z
LAST-MODIFIED:20251127T093933Z
UID:21535-1765306800-1765323000@beyondboys.com
SUMMARY:DUS: chichi opening
DESCRIPTION:Am 9. Dezember öffnen wir für euch exklusiv vor allen anderen die Türen von chichi – breakfast bar & dinner im Düsseldorfer Medienhafen.Unser Member Anil gibt uns an diesem Abend einen ersten Einblick in sein Konzept: elevated plates\, specialty coffee\, ausgewählte Weine – we don’t do ordinary. we do chichi./ Dienstag\, 9. Dezember 2025 /19:00–22:00 Uhr / chichi\, Medienhafen DüsseldorfEuch erwarten:• ausgewählte Drinks• eine Kostprobe der Karte – curated plates zum Teilen• ein exklusiver Blick hinter die Kulissen von chichi und der Story dahinterDie Plätze sind limitiert – bitte gib uns kurz Bescheid\, ob du dabei bist.we don’t do ordinary. we do chichi.see you at the harbour. 
URL:https://beyondboys.com/event/dus-chichi-opening/
LOCATION:chichi Düsseldorf\, Speditionstraße 8\, Düsseldorf\, 40221
CATEGORIES:BeyondBoys ALL (GER),Category,Drink & Dine,Tribe
ATTACH;FMTTYPE=image/jpeg:https://beyondboys.com/wp-content/uploads/2025/11/AdobeStock_198663150-1080x675-1-e1764020345552.jpeg
END:VEVENT
BEGIN:VEVENT
DTSTART;TZID=Europe/Berlin:20251216T190000
DTEND;TZID=Europe/Berlin:20251216T220000
DTSTAMP:20260425T173337
CREATED:20251117T134410Z
LAST-MODIFIED:20251117T134410Z
UID:21440-1765911600-1765922400@beyondboys.com
SUMMARY:In der Weihnachtsbäckerei
DESCRIPTION:Der Tribe backt Plätzchen – und zwar unter echter\, professioneller Bäckerei-Anleitung.\nJa\, du hast richtig gelesen: Die Ruhrpott-Engel treffen sich in diesem Jahr zum gemeinsamen Plätzchenbacken. Aus den blödesten Ideen\, entwickeln sich ja bekanntlich die lustigsten Abende.  \nLocation: Kreishandwerkerschaft Essen – in der Küche\, die von Max Sollmann betrieben wird. \nDatum & Uhrzeit: 16.12.\, 19 Uhr. \nWir kümmern uns vorher um Rezepte\, Zutaten und die komplette Organisation.\nGlühwein? Selbstverständlich.  \nLass dich überraschen\, was wir da gemeinsam zaubern.\nVor Ort sammeln wir einen kleinen Betrag für die Zutaten ein.
URL:https://beyondboys.com/event/in-der-weihnachtsbaeckerei/
LOCATION:Kreishandwerkschaft Essen\, Katzenbruchstraße 71\, Essen\, 45141\, Deutschland
CATEGORIES:BeyondBoys RUA(GER),Category,Drink & Dine,Tribe
ATTACH;FMTTYPE=image/jpeg:https://beyondboys.com/wp-content/uploads/2025/11/WhatsApp-Image-2025-11-13-at-12.00.05.jpeg
END:VEVENT
END:VCALENDAR