BEGIN:VCALENDAR
VERSION:2.0
PRODID:-//BeyondBoys - ECPv5.9.1//NONSGML v1.0//EN
CALSCALE:GREGORIAN
METHOD:PUBLISH
X-WR-CALNAME:BeyondBoys
X-ORIGINAL-URL:https://beyondboys.com
X-WR-CALDESC:Veranstaltungen für BeyondBoys
BEGIN:VTIMEZONE
TZID:Europe/Berlin
BEGIN:DAYLIGHT
TZOFFSETFROM:+0100
TZOFFSETTO:+0200
TZNAME:CEST
DTSTART:20240331T010000
END:DAYLIGHT
BEGIN:STANDARD
TZOFFSETFROM:+0200
TZOFFSETTO:+0100
TZNAME:CET
DTSTART:20241027T010000
END:STANDARD
BEGIN:DAYLIGHT
TZOFFSETFROM:+0100
TZOFFSETTO:+0200
TZNAME:CEST
DTSTART:20250330T010000
END:DAYLIGHT
BEGIN:STANDARD
TZOFFSETFROM:+0200
TZOFFSETTO:+0100
TZNAME:CET
DTSTART:20251026T010000
END:STANDARD
BEGIN:DAYLIGHT
TZOFFSETFROM:+0100
TZOFFSETTO:+0200
TZNAME:CEST
DTSTART:20260329T010000
END:DAYLIGHT
BEGIN:STANDARD
TZOFFSETFROM:+0200
TZOFFSETTO:+0100
TZNAME:CET
DTSTART:20261025T010000
END:STANDARD
END:VTIMEZONE
BEGIN:VEVENT
DTSTART;TZID=Europe/Berlin:20260117T180000
DTEND;TZID=Europe/Berlin:20260117T233000
DTSTAMP:20260425T173333
CREATED:20251211T225724Z
LAST-MODIFIED:20251211T225840Z
UID:21909-1768672800-1768692600@beyondboys.com
SUMMARY:CGN Zirkustrüppsche im Gaffel am Dom
DESCRIPTION:Wusstet ihr\, dass die Abkürzung „KÖLN“ für Karneval steht?!  \nGenau deswegen haut Kevin ordentlich Events rund um die 5 Jahreszeit raus!  \nDiesmal im Programm: Die karnevalistischen Veranstaltung vom Zirkustrüppsche am 17. Januar im Gaffel am Dom\, in der Domstube.\nLoss mer Leedscher singe:\nhttps://dat-zirkustrüppsche.de/events/loss-mer-leedscher-singe/\n\nStart ist 18 Uhr in der Domstube\, Gaffel am Dom\n@Kevin_Tewe  würde 15 bynd Mitgliedern plus Begleitung Tickets Wert von je 25 Euro zur Verfügung stellen. (An dieser Stelle schonmal ein fettes Danke!)\nFirst come – first serve.\n\nDie Eintrittskarten werden bis Ende Dezember zurückgehalten – anschließend gehen die nicht abgerufenen Tickets wieder in den Verkauf.
URL:https://beyondboys.com/event/cgn-zirkustrueppsche-im-gaffel-am-dom/
LOCATION:Gaffel am Dom\, Bahnhofsvorpl. 1\, Köln\, NRW\, 50667\, Deutschland
CATEGORIES:BeyondBoys CGN (GER),Category,Drink & Dine,Tribe
ATTACH;FMTTYPE=image/jpeg:https://beyondboys.com/wp-content/uploads/2025/12/2b982e23-ec50-4443-8ac1-bcafa924d168-e1765493835455.jpg
END:VEVENT
BEGIN:VEVENT
DTSTART;TZID=Europe/Berlin:20260103T183000
DTEND;TZID=Europe/Berlin:20260103T233000
DTSTAMP:20260425T173334
CREATED:20251204T104550Z
LAST-MODIFIED:20251211T230009Z
UID:21783-1767465000-1767483000@beyondboys.com
SUMMARY:CGN Lachende Köln Arena 2026
DESCRIPTION:No Introduction needed!\n\nSechs Stunden tanzen\, bützen und schunkeln mit dem Who is Who der Kölner Karnevalsszene: Von Januar bis Februar 2026 steigt die Traditionsveranstaltung „Lachende Kölnarena“ als größte Karnevalssitzung Kölns.\n\nZwischen dem 3. Januar und dem 15. Februar (Karnevalssonntag) treten in der beliebten Kostümsitzung „Lachende Kölnarena“ in der Lanxess-Arena die Stars der karnevalistischen Musikszene auf.\n\nWir kommen direkt zum Start. Danke an Carsten Heling für die Organisation.\n\nFolgende Künstler sind unter anderem dabei: Kasalla\, Cat Ballou\, Miljö\, Blötschkopp\, JP Weber\, Auerbach\, Marita Köllner\, Mo-Torres\, Et Klimpermännche\, Bläck Fööss\, Domstürmer\, Höhner\, Miljö\, Klüngelköpp\, Brings\, Paveier\, Räuber\, Kempes Feinest\, Eldorado und Stadtrand.\n\nDarüber hinaus sind die traditionellen Garden mit ihren Tanzgruppen\, die Crème de la Crème der kölschen Rednerzunft und selbstverständlich das Kölner Dreigestirn zugegen.\n\nÜber 500 Mitwirkende und zwei große Orchester heizen an 15 Tagen der größte Karnevalsparty der Domstadt ein. Wie jedes Jahr tanzt\, schunkelt\, bützt und singt das Publikum über sechs Stunden lang und macht die Veranstaltung damit zum heimlichen Höhepunkt des Kölner Karnevals neben dem Rosenmontag.\n\n\n-> In dem Kartenpreis von 30€ ist das Essen\, sowie die Getränke inkludiert!\n\n\n\n\n\n\n\n\n\n 
URL:https://beyondboys.com/event/cgn-lachende-koeln-arena-2026/
LOCATION:Lanxess Arena Köln\, Willy-Brandt-Platz 3\, Köln\, 50679
CATEGORIES:BeyondBoys CGN (GER),Category,Drink & Dine,Tribe
ATTACH;FMTTYPE=image/jpeg:https://beyondboys.com/wp-content/uploads/2025/12/5f3780fead9cd825dda934c9_COPYRIGHT_lka_slider_start_lka2020.jpg
END:VEVENT
BEGIN:VEVENT
DTSTART;TZID=Europe/Berlin:20250527T190000
DTEND;TZID=Europe/Berlin:20250527T210000
DTSTAMP:20260425T173334
CREATED:20250411T114046Z
LAST-MODIFIED:20250502T082142Z
UID:19214-1748372400-1748379600@beyondboys.com
SUMMARY:bynd wakeboard afterglow cgn x dus
DESCRIPTION:Wakeboard & Afterglow  \nLocation: Wakebeach 257\, Dormagen (zwischen Köln & Düsseldorf) \nDate: Dienstag\, 27. Mai 2025 \nTime: 19–21 Uhr (Wakeboarden)\, anschließend Afterglow an der Beachbar \nProgramm: \n\nEigene Wakeboard-Bahn exklusiv für uns – inkl. Trainer und Ausrüstung\nWer Lust hat\, kann im Anschluss auf die große Bahn wechseln\nDanach: entspannte Feierabend-Drinks direkt an der Beachbar\n\nKosten:  \nBei ca. 12 Personen inkl. bynd–sc deal: ca. 45 € pro Person \n(Preis variiert je nach Teilnahme an der großen Bahn)
URL:https://beyondboys.com/event/bynd-wakeboard-afterglow-cgn-x-dus/
LOCATION:Wakebeach 257\, Am Straberger See 16\, Dormagen\, 41542
CATEGORIES:BeyondBoys ALL (GER),Category,Sports & Fun,Tribe
ATTACH;FMTTYPE=image/webp:https://beyondboys.com/wp-content/uploads/2025/04/bynd_wake.webp
END:VEVENT
BEGIN:VEVENT
DTSTART;TZID=Europe/Berlin:20250515T180000
DTEND;TZID=Europe/Berlin:20250515T230000
DTSTAMP:20260425T173334
CREATED:20250507T185553Z
LAST-MODIFIED:20250507T185553Z
UID:19521-1747332000-1747350000@beyondboys.com
SUMMARY:CGN The Grid Afterwork
DESCRIPTION:Feierabend? Let’s make it special – im The Grid 🍸 \nManchmal braucht es keine großen Anlässe – nur einen guten Drink\, nette Menschen und den richtigen Vibe. \nWir laden dich herzlich zu einem kleinen Afterwork-Get-Together ein:\nurban\, entspannt und ein bisschen besonders. \n📍 The Grid\, Köln\n📅 15. Mai\n🕖 ab 18:00 Uhr \nKomm vorbei\, stoß mit uns an\, lass die Woche Revue passieren – oder einfach hinter dir.\nDresscode? Come as you are (mit Feierabendlaune). \nLust auf einen besonderen Abend? Wir freuen uns auf dich!
URL:https://beyondboys.com/event/cgn-the-grid-afterwork/
LOCATION:The Grid Köln\, Friesenstraße 62\, Köln\, 50670
CATEGORIES:BeyondBoys CGN (GER),Category,Drink & Dine,Tribe
ATTACH;FMTTYPE=image/webp:https://beyondboys.com/wp-content/uploads/2025/05/image-1.webp
END:VEVENT
BEGIN:VEVENT
DTSTART;TZID=Europe/Berlin:20250425T180000
DTEND;TZID=Europe/Berlin:20250425T233000
DTSTAMP:20260425T173334
CREATED:20250411T115425Z
LAST-MODIFIED:20250423T130444Z
UID:19221-1745604000-1745623800@beyondboys.com
SUMMARY:bynd–grapes: Stammtisch CGN
DESCRIPTION:bynd–grapes – ist der neue Weinstammtisch der Boys in Köln – ein Ort für echte Gespräche\, besondere Tropfen und inspirierende Impulse. \nJede Ausgabe widmet sich einem ausgewählten Wein\, einem spannenden Weingut\, einem Sommelier oder einem Thema\, das uns bewegt. Mal mit Gästen\, mal mit Gedankenanstößen – aber immer mit Atmosphäre und Anspruch\, ganz ohne steife Förmlichkeit. \nAuftaktabend in der Winebank Köln am 25. April 2025 \nZum Auftakt laden wir euch an einen ganz besonderen Ort ein: die WineBANK Köln – ein exklusiver Club für Weinliebhaber*innen\, verborgen in den beeindruckenden Gewölben eines ehemaligen Weinhandelshauses aus dem 19. Jahrhundert. \nWo einst der Kölner Weinhändler Otto Engels seine besten Tropfen lagerte\, treffen heute Kenner und Genießer aufeinander. Ein Ort voller Geschichte\, Charakter und der perfekten Bühne für unseren Auftaktabend. \nDank der Kontakte von ⁨Thomas Olschewski⁩ haben wir Zugang zu diesem außergewöhnlichen Ambiente und nutzen den stilvollen Veranstaltungsraum „Riesling“. \nKulinarisch supportet uns ⁨Paul Richrath⁩ mit feinen Kleinigkeiten. \nAlle Boys\, die Lust auf eine inspirierende Nacht in Köln haben\, sind herzlich eingeladen! Für die Übernachtung steht wie gewohnt das 25hours Hotel zu attraktiven Konditionen bereit. \nUnd am Tag darauf treffen wir uns wieder zum Event beim Spiel Fortuna Düsseldorf vs. Fortuna Köln. \nTeilnahmegebühr: 20 Euro\n(Wein wird vor Ort bezahlt.) \nDie Plätze sind limitiert auf max. 30 Teilnehmer – first come\, first served. \nMeldet euch bitte schnellstmöglich an!  \nDie genaue Einlasszeit wird noch bekannt gegeben.
URL:https://beyondboys.com/event/bynd-grapes-stammtisch-cgn/
LOCATION:wineBANK Köln\, Sedanstraße 2\, Köln\, 50668
CATEGORIES:BeyondBoys CGN (GER),Category,Drink & Dine,Tribe
ATTACH;FMTTYPE=image/jpeg:https://beyondboys.com/wp-content/uploads/2025/04/PHOTO-2025-04-09-20-26-21.jpg
END:VEVENT
BEGIN:VEVENT
DTSTART;TZID=Europe/Berlin:20250304T193000
DTEND;TZID=Europe/Berlin:20250304T230000
DTSTAMP:20260425T173334
CREATED:20250210T180442Z
LAST-MODIFIED:20250224T094914Z
UID:18449-1741116600-1741129200@beyondboys.com
SUMMARY:CGN Tribe Jahreskickoff 2025
DESCRIPTION:Liebe Kölner und Boys der anderen Tribes\, \nam 04.03. wollen wir unseren Jahr bei Speis und Trank im EL. mit unserem Kick-Off beginnen. \nDas besondere? Neben dem kleinen privaten Gastro-Raum\, gibt es dort auch eine private Kegelbahn und Bar. \nWarum erst der 04.03.?\nDer Karneval hat bis zum 03.03. Köln fest in der Hand und da wollten wir natürlich nicht dazwischenfunken. \nWir freuen uns auf euer kommen! \n  \nLocation: EL.\nAdresse: Dürener Str. 357 – 359\, 50935 Köln
URL:https://beyondboys.com/event/cgn-tribe-jahreskickoff-2025/
LOCATION:EL.\, Dürener Straße 357-359\, Köln\, 50935
CATEGORIES:BeyondBoys ALL (GER),Category,Drink & Dine,Tribe
ATTACH;FMTTYPE=image/jpeg:https://beyondboys.com/wp-content/uploads/2024/05/PHOTO-2024-05-23-12-07-39-e1739210666156.jpg
END:VEVENT
BEGIN:VEVENT
DTSTART;TZID=Europe/Berlin:20250205T180000
DTEND;TZID=Europe/Berlin:20250205T233000
DTSTAMP:20260425T173334
CREATED:20241101T203305Z
LAST-MODIFIED:20241118T093126Z
UID:17036-1738778400-1738798200@beyondboys.com
SUMMARY:Karnevalsgathering CGN: 3. Joldsitzung
DESCRIPTION:Es ist wieder Karnevalszeit. \nDer Verein „Goldene Jungs e.V.“ veranstaltet am 05.02.25 ihre feuchtfröhliche Joldsitzung. \nWer schonmal da war weiß\, das ist keine Sitzfeierlichkeit für Bühnenprogramm Genießer\, das ist ein Event zum zusammenkommen und Vollgas geben. \nKarnevalsparty auf Dopaminüberschuss. Also ran an die Anmeldungen! 🙂 See you there  \nLine-Up: u.a.\nMiljö\nPaveier\nJulie Voyage\nKlüngelköpp\nBrings\nRäuber\nHöhner
URL:https://beyondboys.com/event/karnevalsgatherin-cgn-3-joldsitzung/
LOCATION:Sartory-Festsaal\, Friesenstraße 44-48\, Köln\, NRW\, 50670
CATEGORIES:BeyondBoys ALL (GER),Category,Drink & Dine,Tribe
ATTACH;FMTTYPE=image/jpeg:https://beyondboys.com/wp-content/uploads/2024/01/bboys_gathering_24_COL_Joldsitzung-e1764844656947.jpg
END:VEVENT
BEGIN:VEVENT
DTSTART;TZID=Europe/Berlin:20241210T190000
DTEND;TZID=Europe/Berlin:20241210T233000
DTSTAMP:20260425T173334
CREATED:20241125T170921Z
LAST-MODIFIED:20241125T170921Z
UID:17084-1733857200-1733873400@beyondboys.com
SUMMARY:CGN Gathering Weihnachtsmarkt
DESCRIPTION:Ho\, Ho\, Ho Boys! \nwas das „Angrillen“ im Frühjahr ist – ist der Weihnachtsmarktbesuch im Winter. \nAlso auf gehts ins Nikolausdorf am Rudolfplatz\, wo wir uns in lockerer Runde und tollen Gesprächen bei Glühwein und Apfelpunsch mit euch treffen wollen.  \nWann? 10.12.2024 // 19 Uhr\nWo? Weihnachtsmarkt am Rudolfplatz \nFeel free to Join! 
URL:https://beyondboys.com/event/cgn-gathering-weihnachtsmarkt/
LOCATION:Nikolausdorf am Rudolfplatz\, Rudolfplatz\, Köln\, 50674
CATEGORIES:BeyondBoys ALL (GER),Category,Drink & Dine,Tribe
ATTACH;FMTTYPE=image/jpeg:https://beyondboys.com/wp-content/uploads/2024/11/bboys_gathering_24_nikolausmarkt_koeln.jpg
END:VEVENT
BEGIN:VEVENT
DTSTART;TZID=Europe/Berlin:20241127T200000
DTEND;TZID=Europe/Berlin:20241127T233000
DTSTAMP:20260425T173334
CREATED:20241106T194629Z
LAST-MODIFIED:20241106T194629Z
UID:17092-1732737600-1732750200@beyondboys.com
SUMMARY:CGN Gathering LaserTag Köln
DESCRIPTION:In Köln wirds sportlich!\nWir freuen uns\, die neue LaserZone testen zu dürfen. \nGerade erst eröffnet\, und schon kommen wir! Riesen Dank auch an Parham der uns die LaserZone kostenfrei organisiert hat! \n(Verzehr wird vor Ort gezahlt) Also let‘s go! \nGetreu dem Motto: „Voll Laser wie du abgehst!“ \nSHORTFACTS:\nmax. 45 Personen (bitte bis 16.11. zusagen)\nKostenfrei\, aber Verzehr vor Ort Selbstzahler\nUhrzeit: 20 Uhr\nLocation: \nLaserZone Köln\nKöhlstr. 10a\n50827 Köln
URL:https://beyondboys.com/event/cgn-gathering-lasertag-koeln/
LOCATION:LaserZone Köln\, Köhlstraße 10a\, Köln\, 50827
CATEGORIES:BeyondBoys ALL (GER),Category,Sports & Fun,Tribe
ATTACH;FMTTYPE=image/jpeg:https://beyondboys.com/wp-content/uploads/2024/11/bboys_gathering_24_lasertag.jpg
END:VEVENT
BEGIN:VEVENT
DTSTART;TZID=Europe/Berlin:20240626T193000
DTEND;TZID=Europe/Berlin:20240626T230000
DTSTAMP:20260425T173334
CREATED:20240608T064020Z
LAST-MODIFIED:20240608T064020Z
UID:14520-1719430200-1719442800@beyondboys.com
SUMMARY:CGN Stammtisch im ROSA
DESCRIPTION:Passend zur Neueröffnung vom ROSA\, dem ehemaligen „Brüsseler“\,  starten die Boys in Köln einen weiteren Stammtisch! \nDieser findet am 26.06.2024 im Rosa am Brüsseler Platz 1\, 50674 Köln statt 🙂  \nGerne hier bis zum 24.06. zusagen\, damit @kevin_tewe entsprechend Plätze reservieren kann! \nCheers!  \nShortfacts:  \nDatum: 26.06.  \nZeit: 19:30 Uhr  \nLocation: Rosa am Brüsseler Platz 1\, 50674 Köln
URL:https://beyondboys.com/event/cgn-stammtisch-im-rosa/
LOCATION:Rosa\, Brüsseler Platz 1\, Köln\, 50674
CATEGORIES:BeyondBoys CGN (GER),Category,Drink & Dine,Tribe
ATTACH;FMTTYPE=image/jpeg:https://beyondboys.com/wp-content/uploads/2024/02/PHOTO-2024-02-19-20-49-56-e1753298461792.jpg
END:VEVENT
BEGIN:VEVENT
DTSTART;TZID=Europe/Berlin:20240528T193000
DTEND;TZID=Europe/Berlin:20240528T230000
DTSTAMP:20260425T173334
CREATED:20240426T081828Z
LAST-MODIFIED:20240426T081848Z
UID:13893-1716924600-1716937200@beyondboys.com
SUMMARY:CGN Brauhaus Stammtisch
DESCRIPTION:Kölner Stammtisch goes Gaffel am Dom!  \nDie Boys vom CGN Tribe starten am 28.05. in die nächste Stammtisch-Runde und treffen sich diesmal auf einige kühle Kölsch im Gaffel am Dom.  \nGerne hier bis zum 14.05. zusagen\, damit @kevin_tewe entsprechend Plätze reservieren kann 🙂  \nCheers!  \nShortfacts:  \nDatum: 28.05.  \nZeit: 19:30 Uhr  \nLocation: Gaffel am Dom 
URL:https://beyondboys.com/event/cgn-brauhaus-stammtisch/
LOCATION:Gaffel am Dom\, Bahnhofsvorpl. 1\, Köln\, NRW\, 50667\, Deutschland
ATTACH;FMTTYPE=image/jpeg:https://beyondboys.com/wp-content/uploads/2024/02/PHOTO-2024-02-19-20-49-56-e1753298461792.jpg
END:VEVENT
BEGIN:VEVENT
DTSTART;TZID=Europe/Berlin:20240124T193000
DTEND;TZID=Europe/Berlin:20240124T233000
DTSTAMP:20260425T173334
CREATED:20240105T090107Z
LAST-MODIFIED:20240122T192805Z
UID:11543-1706124600-1706139000@beyondboys.com
SUMMARY:Karnevals Gathering: 2. Joldsitzung CGN
DESCRIPTION:Karnevals Gathering: 2. Joldsitzung CGN \nAlaaf ihr Jecken\,  \nnach dem grandiosen Erfolg der 1. Joldsitzung (Sitzung der Goldenen Jungs) in 2023\, knüpfen die Goldenen Jungs selbstverständlich auch in 2024 daran an. \nSpitzenprogramm: Höhner\, Bläck Fööss\, Luftflotte\, Räuber\, Kasalla\, Paveier uvm. – also alles was das Karnevalsherz begehrt! \nAls Mitglieder der Goldenen Jungs haben sich Sven Bedbur und Kevin Tewe darum gekümmert\, noch einen Tisch ganz nah an der Bühne und mitten in der Feierlaune zu reservieren. \nWer im letzten Jahr nicht dabei war\, dem sei gesagt\, es ist keine Altherren Sitzung die in Stille und durchgängigem sitzen verbracht wird. Hier wird richtig gefeiert. Also lasst lieber das Auto Zuhause stehen und teilt euch ein Taxi oder Hotelzimmer 😉 \nRandnotiz: Die Goldenen Jungs spenden die Profite\, wie immer\, an soziale Projekte für Kinder & Jugendliche der Stadt Köln.
URL:https://beyondboys.com/event/karnevals-gathering-2-joldsitzung-cgn/
LOCATION:Sartory-Festsaal\, Friesenstraße 44-48\, Köln\, NRW\, 50670
CATEGORIES:BeyondBoys CGN (GER),Category,Drink & Dine,Tribe
ATTACH;FMTTYPE=image/jpeg:https://beyondboys.com/wp-content/uploads/2024/01/bboys_gathering_24_COL_Joldsitzung-e1764844656947.jpg
END:VEVENT
END:VCALENDAR