BEGIN:VCALENDAR
VERSION:2.0
PRODID:-//BeyondBoys - ECPv5.9.1//NONSGML v1.0//EN
CALSCALE:GREGORIAN
METHOD:PUBLISH
X-WR-CALNAME:BeyondBoys
X-ORIGINAL-URL:https://beyondboys.com
X-WR-CALDESC:Veranstaltungen für BeyondBoys
BEGIN:VTIMEZONE
TZID:Europe/Berlin
BEGIN:DAYLIGHT
TZOFFSETFROM:+0100
TZOFFSETTO:+0200
TZNAME:CEST
DTSTART:20250330T010000
END:DAYLIGHT
BEGIN:STANDARD
TZOFFSETFROM:+0200
TZOFFSETTO:+0100
TZNAME:CET
DTSTART:20251026T010000
END:STANDARD
END:VTIMEZONE
BEGIN:VEVENT
DTSTART;TZID=Europe/Berlin:20250304T193000
DTEND;TZID=Europe/Berlin:20250304T230000
DTSTAMP:20260425T190853
CREATED:20250210T180442Z
LAST-MODIFIED:20250224T094914Z
UID:18449-1741116600-1741129200@beyondboys.com
SUMMARY:CGN Tribe Jahreskickoff 2025
DESCRIPTION:Liebe Kölner und Boys der anderen Tribes\, \nam 04.03. wollen wir unseren Jahr bei Speis und Trank im EL. mit unserem Kick-Off beginnen. \nDas besondere? Neben dem kleinen privaten Gastro-Raum\, gibt es dort auch eine private Kegelbahn und Bar. \nWarum erst der 04.03.?\nDer Karneval hat bis zum 03.03. Köln fest in der Hand und da wollten wir natürlich nicht dazwischenfunken. \nWir freuen uns auf euer kommen! \n  \nLocation: EL.\nAdresse: Dürener Str. 357 – 359\, 50935 Köln
URL:https://beyondboys.com/event/cgn-tribe-jahreskickoff-2025/
LOCATION:EL.\, Dürener Straße 357-359\, Köln\, 50935
CATEGORIES:BeyondBoys ALL (GER),Category,Drink & Dine,Tribe
ATTACH;FMTTYPE=image/jpeg:https://beyondboys.com/wp-content/uploads/2024/05/PHOTO-2024-05-23-12-07-39-e1739210666156.jpg
END:VEVENT
END:VCALENDAR