BEGIN:VCALENDAR
VERSION:2.0
PRODID:-//BeyondBoys - ECPv5.9.1//NONSGML v1.0//EN
CALSCALE:GREGORIAN
METHOD:PUBLISH
X-WR-CALNAME:BeyondBoys
X-ORIGINAL-URL:https://beyondboys.com
X-WR-CALDESC:Veranstaltungen für BeyondBoys
BEGIN:VTIMEZONE
TZID:Europe/Berlin
BEGIN:DAYLIGHT
TZOFFSETFROM:+0100
TZOFFSETTO:+0200
TZNAME:CEST
DTSTART:20240331T010000
END:DAYLIGHT
BEGIN:STANDARD
TZOFFSETFROM:+0200
TZOFFSETTO:+0100
TZNAME:CET
DTSTART:20241027T010000
END:STANDARD
END:VTIMEZONE
BEGIN:VEVENT
DTSTART;TZID=Europe/Berlin:20240528T193000
DTEND;TZID=Europe/Berlin:20240528T230000
DTSTAMP:20260425T190821
CREATED:20240426T081828Z
LAST-MODIFIED:20240426T081848Z
UID:13893-1716924600-1716937200@beyondboys.com
SUMMARY:CGN Brauhaus Stammtisch
DESCRIPTION:Kölner Stammtisch goes Gaffel am Dom!  \nDie Boys vom CGN Tribe starten am 28.05. in die nächste Stammtisch-Runde und treffen sich diesmal auf einige kühle Kölsch im Gaffel am Dom.  \nGerne hier bis zum 14.05. zusagen\, damit @kevin_tewe entsprechend Plätze reservieren kann 🙂  \nCheers!  \nShortfacts:  \nDatum: 28.05.  \nZeit: 19:30 Uhr  \nLocation: Gaffel am Dom 
URL:https://beyondboys.com/event/cgn-brauhaus-stammtisch/
LOCATION:Gaffel am Dom\, Bahnhofsvorpl. 1\, Köln\, NRW\, 50667\, Deutschland
ATTACH;FMTTYPE=image/jpeg:https://beyondboys.com/wp-content/uploads/2024/02/PHOTO-2024-02-19-20-49-56-e1753298461792.jpg
END:VEVENT
END:VCALENDAR