BEGIN:VCALENDAR
VERSION:2.0
PRODID:-//BeyondBoys - ECPv5.9.1//NONSGML v1.0//EN
CALSCALE:GREGORIAN
METHOD:PUBLISH
X-WR-CALNAME:BeyondBoys
X-ORIGINAL-URL:https://beyondboys.com
X-WR-CALDESC:Veranstaltungen für BeyondBoys
BEGIN:VTIMEZONE
TZID:Europe/Berlin
BEGIN:DAYLIGHT
TZOFFSETFROM:+0100
TZOFFSETTO:+0200
TZNAME:CEST
DTSTART:20250330T010000
END:DAYLIGHT
BEGIN:STANDARD
TZOFFSETFROM:+0200
TZOFFSETTO:+0100
TZNAME:CET
DTSTART:20251026T010000
END:STANDARD
END:VTIMEZONE
BEGIN:VEVENT
DTSTART;TZID=Europe/Berlin:20251030T180000
DTEND;TZID=Europe/Berlin:20251030T233000
DTSTAMP:20260425T190852
CREATED:20251008T105919Z
LAST-MODIFIED:20251010T093739Z
UID:20834-1761847200-1761867000@beyondboys.com
SUMMARY:bynd— sc tastes like heaven: Einzelticket
DESCRIPTION:bynd— sc x karthäuserhof x hotelhotel \nwährend viele von uns noch in erinnerungen an das summer feast auf dem karthäuserhof schwelgen\, sorgen wir schon für das nächste highlight. ende oktober wird’s zeit für den gegenbesuch: der karthäuserhof kommt nach düsseldorf – und gemeinsam mit bynd— sc entsteht ein abend\, den man nicht so schnell vergisst. \nwir starten um 18:00 uhr mit vier kuratierten weinproben in den neu gestalteten zimmern der dritten etage – von aktuellen jahrgängen bis zu echten raritäten. danach geht’s eine etage tiefer weiter: pizza & wine pairing im pizza pizza. \nort: hotel hotel düsseldorf\ntiming: 18 uhr \npricing:\n29 € einzel ticket\n58 € plus eins (mit dem plus eins ticket könnt ihr partner:innen\, freund:innen oder interessent:innen mitbringen)
URL:https://beyondboys.com/event/bynd-sc-tastes-like-heaven/
LOCATION:hotelhotel Düsseldorf\, Andreasstrasse 13\, Düsseldorf
CATEGORIES:BeyondBoys ALL (GER),Category,Drink & Dine,Tribe
ATTACH;FMTTYPE=image/png:https://beyondboys.com/wp-content/uploads/2025/10/Bildschirmfoto-2025-10-10-um-11.37.20.png
ORGANIZER;CN="Stefan%20Zappe":MAILTO:sz@beyondboys.com
END:VEVENT
END:VCALENDAR