BEGIN:VCALENDAR
VERSION:2.0
PRODID:-//BeyondBoys - ECPv5.9.1//NONSGML v1.0//EN
CALSCALE:GREGORIAN
METHOD:PUBLISH
X-WR-CALNAME:BeyondBoys
X-ORIGINAL-URL:https://beyondboys.com
X-WR-CALDESC:Veranstaltungen für BeyondBoys
BEGIN:VTIMEZONE
TZID:Europe/Berlin
BEGIN:DAYLIGHT
TZOFFSETFROM:+0100
TZOFFSETTO:+0200
TZNAME:CEST
DTSTART:20250330T010000
END:DAYLIGHT
BEGIN:STANDARD
TZOFFSETFROM:+0200
TZOFFSETTO:+0100
TZNAME:CET
DTSTART:20251026T010000
END:STANDARD
END:VTIMEZONE
BEGIN:VEVENT
DTSTART;TZID=Europe/Berlin:20250503T103000
DTEND;TZID=Europe/Berlin:20250503T140000
DTSTAMP:20260425T190821
CREATED:20250407T075012Z
LAST-MODIFIED:20250407T103405Z
UID:19141-1746268200-1746280800@beyondboys.com
SUMMARY:bynd–sc: padel clb.cup
DESCRIPTION:Wir laden zum ersten padel clb.cup!\nDie offizielle Anmeldung erfolgt hier über den Link: https://forms.gle/2K2fnH8uaf4ZkbQ89\ndamit wir die unterschiedlichen Leistungsklassen organisieren können. \nMeldet Euch zusätzlich gerne hier an\, damit jeder schon Mal seine Gegner sichten kann. 😉 \nFACTS\npadelBOX— lövenich | ottostrasse 12 | 50859 köln samstag 03.05. 10.30-14.00 \nWAS\n– americano tunier auf zeit rookies & advanced spieler — max 24 spieler\n– crashkurs für anfänger und interessierte mit trainern — max 12 spieler\n– one-point challenange |für alle free to play \nFOOD & DRINKS\nsnacks & beers & softs \nANMELDEGEBÜHR\n0.00 \n\n\nDank geht an Partner & Enabler (siehe pdf im Chat oder dem Newsletter)
URL:https://beyondboys.com/event/bynd-sc-padel-club-cup/
LOCATION:padelBOX\, ottostrasse 12\, Köln\, 50859
CATEGORIES:BeyondBoys ALL (GER),Category,Sports & Fun,Tribe
ATTACH;FMTTYPE=image/png:https://beyondboys.com/wp-content/uploads/2025/04/Bildschirmfoto-2025-04-07-um-09.46.21.png
ORGANIZER;CN="Stefan%20Zappe":MAILTO:sz@beyondboys.com
END:VEVENT
END:VCALENDAR