BEGIN:VCALENDAR
VERSION:2.0
PRODID:-//BeyondBoys - ECPv5.9.1//NONSGML v1.0//EN
CALSCALE:GREGORIAN
METHOD:PUBLISH
X-WR-CALNAME:BeyondBoys
X-ORIGINAL-URL:https://beyondboys.com
X-WR-CALDESC:Veranstaltungen für BeyondBoys
BEGIN:VTIMEZONE
TZID:Europe/Berlin
BEGIN:DAYLIGHT
TZOFFSETFROM:+0100
TZOFFSETTO:+0200
TZNAME:CEST
DTSTART:20260329T010000
END:DAYLIGHT
BEGIN:STANDARD
TZOFFSETFROM:+0200
TZOFFSETTO:+0100
TZNAME:CET
DTSTART:20261025T010000
END:STANDARD
END:VTIMEZONE
BEGIN:VEVENT
DTSTART;TZID=Europe/Berlin:20260416T080000
DTEND;TZID=Europe/Berlin:20260419T170000
DTSTAMP:20260423T104026
CREATED:20260220T072309Z
LAST-MODIFIED:20260223T094328Z
UID:22502-1776326400-1776618000@beyondboys.com
SUMMARY:ART Düsseldorf VIP Tickets
DESCRIPTION:Als einer der führenden Plattformen fürzeitgenössische Kunst\, bringt die Art Düsseldorf jedes Jahr ausgewählte internationale Galerien\, bedeutende Künstler*innen sowie eine hochkarätige Sammlerschaft zusammen.\n\nDie Messe gilt als Einladung in eine Welt\, die man nur selten in dieser Form erlebt:inspirierend\, anspruchsvoll und geprägt von außergewöhnlichen Begegnungen.\nSo lädt die Art Düsseldorf 2026 erneut zu eineminspirierenden Dialog zwischen Innovation und Tradition ein.\n\n\n \nDurch unser Member Walther Gehlen\, erhalten wir in diesem Jahr zusätzlich zu unserem bynd–sc special nochmal 25 Special Guest-Tickets (gültig an allen Messetagen\, inklusive der Preview) on top an.\n \n-> WICHTIG: First Comes\, First Serves – bei einer Absage bitte mindestens 48 Std. vorher an Stefan Zappe oder Marvin Netzel kommunizieren\, da ihr ansonsten exklusive Tickets anderen vorenthaltet.\n \nWo? Areal Böhler\, Düsseldorf \nWann? an allen Tagen der ART DUS einsetzbar
URL:https://beyondboys.com/event/art-duesseldorf-vip-tickets/
LOCATION:Areal Böhler\, Hansaallee 321\, Düsseldorf\, 40549
CATEGORIES:BeyondBoys ALL (GER),BeyondBoys DUS (GER),Category,Growth & Accelerate,Tribe
ATTACH;FMTTYPE=image/png:https://beyondboys.com/wp-content/uploads/2026/02/Bildschirmfoto-2026-02-23-um-10.13.35.png
END:VEVENT
END:VCALENDAR